BEGIN:VCALENDAR
VERSION:2.0
PRODID:-//Inven2 - ECPv6.15.20//NONSGML v1.0//EN
CALSCALE:GREGORIAN
METHOD:PUBLISH
X-ORIGINAL-URL:https://www.inven2.com
X-WR-CALDESC:Arrangement for Inven2
REFRESH-INTERVAL;VALUE=DURATION:PT1H
X-Robots-Tag:noindex
X-PUBLISHED-TTL:PT1H
BEGIN:VTIMEZONE
TZID:Europe/Oslo
BEGIN:DAYLIGHT
TZOFFSETFROM:+0100
TZOFFSETTO:+0200
TZNAME:CEST
DTSTART:20190331T010000
END:DAYLIGHT
BEGIN:STANDARD
TZOFFSETFROM:+0200
TZOFFSETTO:+0100
TZNAME:CET
DTSTART:20191027T010000
END:STANDARD
BEGIN:DAYLIGHT
TZOFFSETFROM:+0100
TZOFFSETTO:+0200
TZNAME:CEST
DTSTART:20200329T010000
END:DAYLIGHT
BEGIN:STANDARD
TZOFFSETFROM:+0200
TZOFFSETTO:+0100
TZNAME:CET
DTSTART:20201025T010000
END:STANDARD
BEGIN:DAYLIGHT
TZOFFSETFROM:+0100
TZOFFSETTO:+0200
TZNAME:CEST
DTSTART:20210328T010000
END:DAYLIGHT
BEGIN:STANDARD
TZOFFSETFROM:+0200
TZOFFSETTO:+0100
TZNAME:CET
DTSTART:20211031T010000
END:STANDARD
END:VTIMEZONE
BEGIN:VEVENT
DTSTART;TZID=Europe/Oslo:20201029T140000
DTEND;TZID=Europe/Oslo:20201029T163000
DTSTAMP:20260423T152009
CREATED:20201013T101904Z
LAST-MODIFIED:20201014T082613Z
UID:7281-1603980000-1603989000@www.inven2.com
SUMMARY:Jakten på innovasjonskraften 2020: Samarbeid på resept
DESCRIPTION:Velkommen til innovasjonsdagen\, en årlig møteplass med premiere i år! Overordnet tema hvert år er økosystemer. I år med fokus på verdien av samarbeid. \nHold av torsdag 29. oktober kl. 14– 16.30 for et spennende program etterfulgt av mingling\, musikk\, mat og drikke. Du kan velge mellom å delta fysisk i Forskningsparken (begrenset antall plasser) eller følge med digitalt. \nProgram: \nDel 1 \n14.00- 14.50 \nVelkommen v/ Trine Ellingsen\, daglig leder i FIN – Foreningen for innovasjonsselskaper i  Norge og Øystein Eriksen Søreide\, administrerende direktør i Abelia  \nRegjeringens satsning på økosystemer og verdiskaping gjennom samarbeid v/ næringsminister Iselin Nybø  \nHva er økosystemer og hvorfor lønner det seg å samarbeide? v / forsker Taran Thune   \nEksport og bærekraft v/ Hanne Mette Dyrlie Kristensen\, The Life Science Cluster \n14.50- 15.05 Pause  \nDel 2 \n15.05- 16.30 \nSkaleringsmuligheter v/ Erlend Waaler og Per Einar Dybvik\, StartupLab Oslo og Bergen  \nVirkemidlene og hva som skal til v/ Inger Sandlie\, professor ved Universitetet i Oslo og Ole Henrik Brekke\, CBO i Nextera \nPanelsamtale ledet av Abelia: \n\nHåkon Haugli\, administrerende direktør i Innovasjon Norge \nIngrid Lorange\, administrerende direktør i Siva \nAnne Kjersti Fahlvik\, områdedirektør – Næringsutvikling og nyskaping i Forskningsrådet  \nTerje Eidesmo\, administrerende direktør i Investinor\n\nAvslutning v/ Trine Ellingsen\, FIN og Abelia
URL:https://www.inven2.com/arrangement/jakten-pa-innovasjonskraften-2020-samarbeid-pa-resept/
LOCATION:Forskningsparken\, Gaustadalleen 21\, Oslo\, 0346\, Norge
CATEGORIES:Industrisamarbeid,Innovasjon
ATTACH;FMTTYPE=image/png:https://www.inven2.com/wp-content/uploads/2020/10/Innovasjonskonferansen-2020.png
END:VEVENT
END:VCALENDAR