BEGIN:VCALENDAR
VERSION:2.0
PRODID:-//Inven2 - ECPv6.15.20//NONSGML v1.0//EN
CALSCALE:GREGORIAN
METHOD:PUBLISH
X-WR-CALNAME:Inven2
X-ORIGINAL-URL:https://www.inven2.com
X-WR-CALDESC:Arrangement for Inven2
REFRESH-INTERVAL;VALUE=DURATION:PT1H
X-Robots-Tag:noindex
X-PUBLISHED-TTL:PT1H
BEGIN:VTIMEZONE
TZID:Europe/Oslo
BEGIN:DAYLIGHT
TZOFFSETFROM:+0100
TZOFFSETTO:+0200
TZNAME:CEST
DTSTART:20210328T010000
END:DAYLIGHT
BEGIN:STANDARD
TZOFFSETFROM:+0200
TZOFFSETTO:+0100
TZNAME:CET
DTSTART:20211031T010000
END:STANDARD
BEGIN:DAYLIGHT
TZOFFSETFROM:+0100
TZOFFSETTO:+0200
TZNAME:CEST
DTSTART:20220327T010000
END:DAYLIGHT
BEGIN:STANDARD
TZOFFSETFROM:+0200
TZOFFSETTO:+0100
TZNAME:CET
DTSTART:20221030T010000
END:STANDARD
BEGIN:DAYLIGHT
TZOFFSETFROM:+0100
TZOFFSETTO:+0200
TZNAME:CEST
DTSTART:20230326T010000
END:DAYLIGHT
BEGIN:STANDARD
TZOFFSETFROM:+0200
TZOFFSETTO:+0100
TZNAME:CET
DTSTART:20231029T010000
END:STANDARD
END:VTIMEZONE
BEGIN:VEVENT
DTSTART;TZID=Europe/Oslo:20220610T090000
DTEND;TZID=Europe/Oslo:20220610T103000
DTSTAMP:20260422T115133
CREATED:20220520T081856Z
LAST-MODIFIED:20220520T082444Z
UID:10726-1654851600-1654857000@www.inven2.com
SUMMARY:Lansering av rapporten "Helsenæringens verdi 2022"
DESCRIPTION:Velkommen til lansering av rapporten «Helsenæringens verdi 2022» \nHelsenæringen er en del av løsningen på mange av våre helse- og omsorgsutfordringer de neste tiårene. Samtidig kan helse bli en av våre største næringer med eksport til et globalt marked\, mens inntekter fra andre store næringer avtar. Årets rapport «Helsenæringens verdi 2022» legger opp til en spennende vinkling og retter oppmerksomheten mot helsenæringens samfunnsmessige betydning. \nDu kan velge om du ønsker å delta fysisk eller digitalt.\nVelkommen! \nMeld deg på her.
URL:https://www.inven2.com/arrangement/velkommen-til-lansering-av-rapporten-helsenaeringens-verdi-2022/
LOCATION:Næringslivets Hus\, Middelthuns gate 27\, Oslo\, Oslo\, Norge
CATEGORIES:Innovasjon
ATTACH;FMTTYPE=image/jpeg:https://www.inven2.com/wp-content/uploads/2022/05/logosky-2022-riktig-fil-etter-ny-lo-logo_web.jpg
END:VEVENT
END:VCALENDAR