BEGIN:VCALENDAR
VERSION:2.0
PRODID:-//Inven2 - ECPv6.15.20//NONSGML v1.0//EN
CALSCALE:GREGORIAN
METHOD:PUBLISH
X-ORIGINAL-URL:https://www.inven2.com
X-WR-CALDESC:Arrangement for Inven2
REFRESH-INTERVAL;VALUE=DURATION:PT1H
X-Robots-Tag:noindex
X-PUBLISHED-TTL:PT1H
BEGIN:VTIMEZONE
TZID:Europe/Oslo
BEGIN:DAYLIGHT
TZOFFSETFROM:+0100
TZOFFSETTO:+0200
TZNAME:CEST
DTSTART:20220327T010000
END:DAYLIGHT
BEGIN:STANDARD
TZOFFSETFROM:+0200
TZOFFSETTO:+0100
TZNAME:CET
DTSTART:20221030T010000
END:STANDARD
BEGIN:DAYLIGHT
TZOFFSETFROM:+0100
TZOFFSETTO:+0200
TZNAME:CEST
DTSTART:20230326T010000
END:DAYLIGHT
BEGIN:STANDARD
TZOFFSETFROM:+0200
TZOFFSETTO:+0100
TZNAME:CET
DTSTART:20231029T010000
END:STANDARD
BEGIN:DAYLIGHT
TZOFFSETFROM:+0100
TZOFFSETTO:+0200
TZNAME:CEST
DTSTART:20240331T010000
END:DAYLIGHT
BEGIN:STANDARD
TZOFFSETFROM:+0200
TZOFFSETTO:+0100
TZNAME:CET
DTSTART:20241027T010000
END:STANDARD
END:VTIMEZONE
BEGIN:VEVENT
DTSTART;TZID=Europe/Oslo:20230531T090000
DTEND;TZID=Europe/Oslo:20230531T160000
DTSTAMP:20260421T182045
CREATED:20230327T113609Z
LAST-MODIFIED:20230327T115440Z
UID:12079-1685523600-1685548800@www.inven2.com
SUMMARY:Kurs i kliniske oppdragsstudier - fra forespørsel til sluttrapportering
DESCRIPTION:31. mai 2023\, møterom Fauna i Forskningsparken + digitalt på Teams \n​Kursinnhold \nKurset er praktisk rettet og henvender seg først og fremst til utprøvere\, studiesykepleiere\, prosjektkoordinatorer og andre som arbeider med kliniske studier på oppdrag fra industrien\, primært legemiddelstudier. Vi går gjennom hele prosessen\, fra forespørsel om deltakelse til avslutning og arkivering\, hvilke forpliktelser og fordeler studiedeltakelse innebærer for sykehuset og hvilke forventninger industrien har. \nDet er en fordel å ha gjennomført GCP-kurs og gjerne noe erfaring fra kliniske studier\, da kurset forutsetter en viss kjennskap til regelverk og begreper. \n\n\n\nSted: Møterom Fauna i Forskningsparken\, Gaustadalléen 21 \nPåmelding og program finner du her: https://response.questback.com/isa/qbv.dll/bylink?p=hQzAiabdXO6tqT1ymtRvERSEkBRuSZ7_3x8Dz27sZqmFbbOzfEzGfl7ZXzzF61mT0Påmelding:  \nPåmeldingsfrist: 24. mai 2023 \nKursavgift: Kurset er gratis og inkluderer en enkel lunsj. \n  \nKurset holdes årlig av Forskningsstøtte ved Oslo universitetssykehus og Inven2.  \nDet er plass til 60 deltakere i lokalet.  
URL:https://www.inven2.com/arrangement/kurs-i-kliniske-oppdragsstudier-fra-foresporsel-til-sluttrapportering-2/
LOCATION:Forskningsparken\, Gaustadalleen 21\, Oslo\, 0346\, Norge
ATTACH;FMTTYPE=image/jpeg:https://www.inven2.com/wp-content/uploads/2022/04/shutterstock_787865590_web-1.jpg
END:VEVENT
END:VCALENDAR