BEGIN:VCALENDAR
VERSION:2.0
PRODID:-//Inven2 - ECPv6.15.20//NONSGML v1.0//EN
CALSCALE:GREGORIAN
METHOD:PUBLISH
X-WR-CALNAME:Inven2
X-ORIGINAL-URL:https://www.inven2.com
X-WR-CALDESC:Arrangement for Inven2
REFRESH-INTERVAL;VALUE=DURATION:PT1H
X-Robots-Tag:noindex
X-PUBLISHED-TTL:PT1H
BEGIN:VTIMEZONE
TZID:Europe/Oslo
BEGIN:DAYLIGHT
TZOFFSETFROM:+0100
TZOFFSETTO:+0200
TZNAME:CEST
DTSTART:20220327T010000
END:DAYLIGHT
BEGIN:STANDARD
TZOFFSETFROM:+0200
TZOFFSETTO:+0100
TZNAME:CET
DTSTART:20221030T010000
END:STANDARD
BEGIN:DAYLIGHT
TZOFFSETFROM:+0100
TZOFFSETTO:+0200
TZNAME:CEST
DTSTART:20230326T010000
END:DAYLIGHT
BEGIN:STANDARD
TZOFFSETFROM:+0200
TZOFFSETTO:+0100
TZNAME:CET
DTSTART:20231029T010000
END:STANDARD
BEGIN:DAYLIGHT
TZOFFSETFROM:+0100
TZOFFSETTO:+0200
TZNAME:CEST
DTSTART:20240331T010000
END:DAYLIGHT
BEGIN:STANDARD
TZOFFSETFROM:+0200
TZOFFSETTO:+0100
TZNAME:CET
DTSTART:20241027T010000
END:STANDARD
END:VTIMEZONE
BEGIN:VEVENT
DTSTART;TZID=Europe/Oslo:20230912T143000
DTEND;TZID=Europe/Oslo:20230912T170000
DTSTAMP:20260421T140521
CREATED:20230828T072806Z
LAST-MODIFIED:20230912T065908Z
UID:12663-1694529000-1694538000@www.inven2.com
SUMMARY:Praktiske erfaringer fra desentraliserte kliniske studier
DESCRIPTION:Det har i de siste årene vært snakket og diskutert mye omkring desentraliserte studier som fremtidens studiemodell. Det er et stort behov for mer informasjon om hva desentraliserte studier er og hva det innebærer for studiesenter\, slik at vi best mulig kan forberede oss for å ta del i denne typen studier. For å klare dette er det viktig at vi både forstår hvordan disse desentralisert studiene på oppdrag fra industri ser ut i praksis og at de som har deltatt i denne typen studier deler sine erfaringer. Hensikten med møtet er derfor å dele innsikt og erfaringer vi så langt har gjort oss i studier med bruk av desentraliserte modeller. Målgruppen for møtet er primært personale som jobber med praktisk gjennomføring av kliniske studier i sykehusene. \nNår: 12. september kl 1430-1700. \nHvor: Forskningsparken\, møterom Lyng \nLenke til påmelding: https://www.eventbrite.com/e/praktiske-erfaringer-fra-desentraliserte-kliniske-studier-tickets-706724801907?aff=oddtdtcreator \nEn kan følge møtet via Teams. Velg da digital deltakelse i påmeldingen og du vil få tilsendt teamslenke i forkant av møtet. \n  \nAgenda: \n\nDesentraliserte industristudier i praksis -trender og status\n\nSiri Kolle\, VP Clinical Inven2 \n\nDesentraliserte studier fra LMI medlemmer neste 12 måneder\n\nTBD                                                            \n\nNy Inven2 avtalemal som inkluderer desentraliserte modeller og løsninger\n\nAnne Marie Bjørgo\, Jurist Inven2 \n\nErfaringsdeling fra planlegging av oppstart av en hybrid desentralisert kreftstudie\nSponsor: Gry Bratten\, Country Study Manager Roche Norway\nSite: Marie Skovli Pettersen og Anne Kristine Nordby Øwre\, Forskningskoordinatorer Seksjon for kliniske studier\, Ahus\nApotek: Kari Heimholt\, Leder\, og Elisabeth Bring\, Koordinator\, Avdeling for kliniske utprøvinger\,Sykehusapotekene Oslo\, Klinisk utprøving\nErfaring med utføring av hjemmebesøk i studie\n\nSigrun Kristine Sæther\, Director Clinical Operation Norway\, Link Medical Research \n\nErfaring fra gjennomføring av desentraliserte studier i sykehuset i Sverige\n\nEmma Bäck\, Forskningskoordinator\, Prövningsenhet Barn\, Sahlgrenska Universitetssjukhuset \nOppsummering
URL:https://www.inven2.com/arrangement/praktiske-erfaringer-fra-desentraliserte-kliniske-studier/
LOCATION:Forskningsparken\, Gaustadalleen 21\, Oslo\, 0346\, Norge
ATTACH;FMTTYPE=image/jpeg:https://www.inven2.com/wp-content/uploads/2023/08/Clinical-trial_mote-aug-23.jpg
END:VEVENT
END:VCALENDAR