BEGIN:VCALENDAR
VERSION:2.0
PRODID:-//Inven2 - ECPv6.15.20//NONSGML v1.0//EN
CALSCALE:GREGORIAN
METHOD:PUBLISH
X-WR-CALNAME:Inven2
X-ORIGINAL-URL:https://www.inven2.com
X-WR-CALDESC:Arrangement for Inven2
REFRESH-INTERVAL;VALUE=DURATION:PT1H
X-Robots-Tag:noindex
X-PUBLISHED-TTL:PT1H
BEGIN:VTIMEZONE
TZID:Europe/Oslo
BEGIN:DAYLIGHT
TZOFFSETFROM:+0100
TZOFFSETTO:+0200
TZNAME:CEST
DTSTART:20220327T010000
END:DAYLIGHT
BEGIN:STANDARD
TZOFFSETFROM:+0200
TZOFFSETTO:+0100
TZNAME:CET
DTSTART:20221030T010000
END:STANDARD
BEGIN:DAYLIGHT
TZOFFSETFROM:+0100
TZOFFSETTO:+0200
TZNAME:CEST
DTSTART:20230326T010000
END:DAYLIGHT
BEGIN:STANDARD
TZOFFSETFROM:+0200
TZOFFSETTO:+0100
TZNAME:CET
DTSTART:20231029T010000
END:STANDARD
BEGIN:DAYLIGHT
TZOFFSETFROM:+0100
TZOFFSETTO:+0200
TZNAME:CEST
DTSTART:20240331T010000
END:DAYLIGHT
BEGIN:STANDARD
TZOFFSETFROM:+0200
TZOFFSETTO:+0100
TZNAME:CET
DTSTART:20241027T010000
END:STANDARD
END:VTIMEZONE
BEGIN:VEVENT
DTSTART;TZID=Europe/Oslo:20230927T080000
DTEND;TZID=Europe/Oslo:20230927T200000
DTSTAMP:20260421T124734
CREATED:20230619T081851Z
LAST-MODIFIED:20230622T101229Z
UID:12574-1695801600-1695844800@www.inven2.com
SUMMARY:Science Impact 2023
DESCRIPTION:Science Impact 2023 – morgendagens løsninger starter i dag \nTilbring en dag med spennende forskning\, innovasjon og nettverksbygging på denne møteplassen for akademia\, instituttsektoren\, offentlig sektor og industri.​ Innovasjonskonferansen har sesjoner med livsvitenskap og energi og miljø og er en del av Oslo Innovation Week 2023 . \nLes mer og meld deg på her: https://www.uio.no/english/research/interfaculty-research-areas/growth-house/news-and-events/events/2023/science-impact/index.html
URL:https://www.inven2.com/arrangement/science-impact-2023/
LOCATION:Forskningsparken\, Gaustadalleen 21\, Oslo\, 0346\, Norge
CATEGORIES:Innovasjon
ATTACH;FMTTYPE=image/png:https://www.inven2.com/wp-content/uploads/2023/06/banner_science_impact_june-1-1.png
END:VEVENT
END:VCALENDAR