BEGIN:VCALENDAR
VERSION:2.0
PRODID:-//Inven2 - ECPv6.15.20//NONSGML v1.0//EN
CALSCALE:GREGORIAN
METHOD:PUBLISH
X-ORIGINAL-URL:https://www.inven2.com
X-WR-CALDESC:Arrangement for Inven2
REFRESH-INTERVAL;VALUE=DURATION:PT1H
X-Robots-Tag:noindex
X-PUBLISHED-TTL:PT1H
BEGIN:VTIMEZONE
TZID:Europe/Oslo
BEGIN:DAYLIGHT
TZOFFSETFROM:+0100
TZOFFSETTO:+0200
TZNAME:CEST
DTSTART:20240331T010000
END:DAYLIGHT
BEGIN:STANDARD
TZOFFSETFROM:+0200
TZOFFSETTO:+0100
TZNAME:CET
DTSTART:20241027T010000
END:STANDARD
BEGIN:DAYLIGHT
TZOFFSETFROM:+0100
TZOFFSETTO:+0200
TZNAME:CEST
DTSTART:20250330T010000
END:DAYLIGHT
BEGIN:STANDARD
TZOFFSETFROM:+0200
TZOFFSETTO:+0100
TZNAME:CET
DTSTART:20251026T010000
END:STANDARD
BEGIN:DAYLIGHT
TZOFFSETFROM:+0100
TZOFFSETTO:+0200
TZNAME:CEST
DTSTART:20260329T010000
END:DAYLIGHT
BEGIN:STANDARD
TZOFFSETFROM:+0200
TZOFFSETTO:+0100
TZNAME:CET
DTSTART:20261025T010000
END:STANDARD
END:VTIMEZONE
BEGIN:VEVENT
DTSTART;TZID=Europe/Oslo:20250326T083000
DTEND;TZID=Europe/Oslo:20250326T103000
DTSTAMP:20260419T174627
CREATED:20250310T083751Z
LAST-MODIFIED:20250311T113425Z
UID:15261-1742977800-1742985000@www.inven2.com
SUMMARY:Draghi-rapporten: Hva betyr den for helsenæringen?
DESCRIPTION:Hvordan kan vi styrke helseinnovasjon og konkurransekraft i Europa? Professor\, og tidligere rektor ved Universitetet i Oslo og Karolinska Institutet\, Ole Petter Ottersen innleder en diskusjon om Draghi-rapportens betydning for helse og nevrovitenskap. \nSted: Forskningsparken\, Oslo\, sosial sone Inven2 \n\n\n\n\n\n\n\n\n\n\n\n\n\n\n\n\nProgram:\n\n\n\n\n\n\n\n\n\n\n\n\n08:30 – 09:00 Kaffe og mingling \n09:00 – 09:05 Velkommen med Gunnar Kongsrud\, styreleder Nansen Neuroscience Network og Jens Halvard Grønlien\, styremedlem og VP Innovation\, Inven2 \n09:05 – 09:20 Draghirapporten – en kort gjennomgang av Professor Ole Petter Ottersen \n09:20 – 09:35 Presentasjon av Menon Economics rapport Helseindustriense eksport – en nullpunktsanalyse \n09:35 – 09:50 Oslo Science City – ambisjoner og gjennomføringskraft\, Bente Mikkelsen \n09:50 – 10:05 Innovasjonskraft i et nytt verdensbilde\, Heidi Nordby Lunde medlem i Europautvalget og Finanskomiteen (Høyre) \n10:05 – 10:25 Panelsamtale \n10:25 – 10:30 Avslutning \nRegistrer deg her.
URL:https://www.inven2.com/arrangement/draghi-rapporten-hva-betyr-den-for-helsenaeringen/
LOCATION:Inven2\, Gaustadalleen 21\, Oslo\, 0349\, Norway
ATTACH;FMTTYPE=image/jpeg:https://www.inven2.com/wp-content/uploads/2025/03/Draghi-rapporten.jpg
END:VEVENT
END:VCALENDAR