BEGIN:VCALENDAR
VERSION:2.0
PRODID:-//Inven2 - ECPv6.15.20//NONSGML v1.0//EN
CALSCALE:GREGORIAN
METHOD:PUBLISH
X-WR-CALNAME:Inven2
X-ORIGINAL-URL:https://www.inven2.com
X-WR-CALDESC:Arrangement for Inven2
REFRESH-INTERVAL;VALUE=DURATION:PT1H
X-Robots-Tag:noindex
X-PUBLISHED-TTL:PT1H
BEGIN:VTIMEZONE
TZID:Europe/Oslo
BEGIN:DAYLIGHT
TZOFFSETFROM:+0100
TZOFFSETTO:+0200
TZNAME:CEST
DTSTART:20190331T010000
END:DAYLIGHT
BEGIN:STANDARD
TZOFFSETFROM:+0200
TZOFFSETTO:+0100
TZNAME:CET
DTSTART:20191027T010000
END:STANDARD
BEGIN:DAYLIGHT
TZOFFSETFROM:+0100
TZOFFSETTO:+0200
TZNAME:CEST
DTSTART:20200329T010000
END:DAYLIGHT
BEGIN:STANDARD
TZOFFSETFROM:+0200
TZOFFSETTO:+0100
TZNAME:CET
DTSTART:20201025T010000
END:STANDARD
BEGIN:DAYLIGHT
TZOFFSETFROM:+0100
TZOFFSETTO:+0200
TZNAME:CEST
DTSTART:20210328T010000
END:DAYLIGHT
BEGIN:STANDARD
TZOFFSETFROM:+0200
TZOFFSETTO:+0100
TZNAME:CET
DTSTART:20211031T010000
END:STANDARD
END:VTIMEZONE
BEGIN:VEVENT
DTSTART;TZID=Europe/Oslo:20201019T100000
DTEND;TZID=Europe/Oslo:20201019T120000
DTSTAMP:20260424T001600
CREATED:20201013T084931Z
LAST-MODIFIED:20201014T082620Z
UID:7274-1603101600-1603108800@www.inven2.com
SUMMARY:Norwegian Health Investor Network
DESCRIPTION:Valuation Through A Health Lense & What Professional Investors Look For When Investing\nJoin us for an overview of health-focused company valuation methods by a valuation expert\, followed by a walk-through of the decision making process used by seasoned investors when they invested early (and subsequently followed-on) in one of Norway’s most successful biotech companies\, Vaccibody. \n– Vaccibody just secured the largest Biotech deal Norway has ever seen. \nModerator: Jeremy McCrohan\, Norwegian Health Investor Network (Head of Investor Relations\, Norway Health Tech)
URL:https://www.inven2.com/arrangement/norwegian-health-investor-network/
CATEGORIES:Innovasjon
ATTACH;FMTTYPE=image/png:https://www.inven2.com/wp-content/uploads/2020/10/Norwegian-Helth-Investor-Network2.png
END:VEVENT
END:VCALENDAR