BEGIN:VCALENDAR
VERSION:2.0
PRODID:-//Inven2 - ECPv6.15.20//NONSGML v1.0//EN
CALSCALE:GREGORIAN
METHOD:PUBLISH
X-WR-CALNAME:Inven2
X-ORIGINAL-URL:https://www.inven2.com
X-WR-CALDESC:Arrangement for Inven2
REFRESH-INTERVAL;VALUE=DURATION:PT1H
X-Robots-Tag:noindex
X-PUBLISHED-TTL:PT1H
BEGIN:VTIMEZONE
TZID:Europe/Oslo
BEGIN:DAYLIGHT
TZOFFSETFROM:+0100
TZOFFSETTO:+0200
TZNAME:CEST
DTSTART:20220327T010000
END:DAYLIGHT
BEGIN:STANDARD
TZOFFSETFROM:+0200
TZOFFSETTO:+0100
TZNAME:CET
DTSTART:20221030T010000
END:STANDARD
BEGIN:DAYLIGHT
TZOFFSETFROM:+0100
TZOFFSETTO:+0200
TZNAME:CEST
DTSTART:20230326T010000
END:DAYLIGHT
BEGIN:STANDARD
TZOFFSETFROM:+0200
TZOFFSETTO:+0100
TZNAME:CET
DTSTART:20231029T010000
END:STANDARD
BEGIN:DAYLIGHT
TZOFFSETFROM:+0100
TZOFFSETTO:+0200
TZNAME:CEST
DTSTART:20240331T010000
END:DAYLIGHT
BEGIN:STANDARD
TZOFFSETFROM:+0200
TZOFFSETTO:+0100
TZNAME:CET
DTSTART:20241027T010000
END:STANDARD
END:VTIMEZONE
BEGIN:VEVENT
DTSTART;TZID=Europe/Oslo:20230815T120000
DTEND;TZID=Europe/Oslo:20230815T130000
DTSTAMP:20260421T223904
CREATED:20230525T124641Z
LAST-MODIFIED:20230803T065157Z
UID:12375-1692100800-1692104400@www.inven2.com
SUMMARY:Hvordan bygge helseindustri i Norge - anbefalinger fra de som har gjort det før
DESCRIPTION:Dersom Norge vil bruke 11 milliarder kroner (et tenkt tall) på å bygge helseindustri i Norge\, hvordan bruke dem best? Til å etablere flere oppstartsbedrifter\, til å flytte fram selskapene i utviklingsfase eller sikre norsk eierskap av selskaper like før inntektene strømmer inn. \nVi har invitert fire bedriftsledere som har vært gründere eller ledere av helseindustri i vekst og spurt hva de mener er de viktigste suksessfaktorene for å lykkes. H va har vi i Norge og hva er det vi mangler om vi skal lykkes i ambisjonen om å bygge en kraftfull helseindustri med eksportinnteker? Det er i år 10 år siden legemidlet Xofigo fikk markedsføringstillatelse\, blir det hyppigere suksesser med NFDs nye veikart for bygging av helseindustri? \n  \nProgram: \n12.00 – 12.05 \nVelkommen\, innledning – Ole Kristian Hjelstuen\, Adm.dir Inven2 \n12.05 – 12.35 \nKorte innlegg og debatt fra fire bedriftsledere om hva de mener er de viktigste faktorene for suksess\, hva som var viktige pivotalhendelser og deres synspunkter på hva vi har i Norge som fungerer/ikke fungerer: \n\nCathrine Thomassen\, Adm.dir GE Healthcare Norge. Teknologiske legemidler. Lang fartstid i GEHC\, som står for nesten halvparten av eksportinntektene fra norsk helseindustri. Ca 800 ansatte.\nKari Krogstad. Adm.dir Medistim. Medtech. Har tatt selskapet gjennom vekstfase\, økte eksportinntekter og etablering av underenheter utenfor Norge. Tidligere leder for Invitrogen og har hatt ulike roller i flere selskaper.\nKjetil Hestdal. Leder av Photocure i mange år\, fra utviklingsprosjekt til etablering av to produkter på markedet. Legemidler\, med teknisk komponent. En av få som har ledet arbeidet med å ta en norsk legemiddelkandidat hele veien fra reagensglass til marked\, utenfor et stort selskap. Har etablert flere selskaper senere.\nThomas Ramdahl. Gründer og adm.dir i Algeta som ble etablert i 1997. Legemidler. Har ledet arbeidet med å ta en norsk legemiddelkandidat hele veien fra reagensglass til markedsklar\, de siste årene i samarbeid med Bayer. Er styreleder/styremedlem i flere internasjonale biotek-selskaper.\n\n12.35 – 13.00 \nDebatt og oppsummreing med Jonas Einarsson: \n\nStatssekretær Ole Henrik Krat Bjørkholt (AP)– Helse og Omsorgsdepartementet\nArve Juritzen (H) –  Nestleder av Høyres nasjonale næringspolitiske forum\nThomas Axelsen – Kreftforeningen\n\n  \nArrangementet streames her.
URL:https://www.inven2.com/arrangement/hvordan-bygge-helseindustri-i-norge-anbefalinger-fra-de-som-har-gjort-det-for/
LOCATION:Thon Hotel Arendal\, Plenumssal\, Friergangen 1\, Arendal\, Arendal\, 4836\, Norge
CATEGORIES:Innovasjon
ATTACH;FMTTYPE=image/jpeg:https://www.inven2.com/wp-content/uploads/2023/05/Bygge-helseindustri_logo_arendalsukalogo.jpg
END:VEVENT
END:VCALENDAR