BEGIN:VCALENDAR
VERSION:2.0
PRODID:-//Inven2 - ECPv6.15.20//NONSGML v1.0//EN
CALSCALE:GREGORIAN
METHOD:PUBLISH
X-WR-CALNAME:Inven2
X-ORIGINAL-URL:https://www.inven2.com
X-WR-CALDESC:Arrangement for Inven2
REFRESH-INTERVAL;VALUE=DURATION:PT1H
X-Robots-Tag:noindex
X-PUBLISHED-TTL:PT1H
BEGIN:VTIMEZONE
TZID:Europe/Oslo
BEGIN:DAYLIGHT
TZOFFSETFROM:+0100
TZOFFSETTO:+0200
TZNAME:CEST
DTSTART:20220327T010000
END:DAYLIGHT
BEGIN:STANDARD
TZOFFSETFROM:+0200
TZOFFSETTO:+0100
TZNAME:CET
DTSTART:20221030T010000
END:STANDARD
BEGIN:DAYLIGHT
TZOFFSETFROM:+0100
TZOFFSETTO:+0200
TZNAME:CEST
DTSTART:20230326T010000
END:DAYLIGHT
BEGIN:STANDARD
TZOFFSETFROM:+0200
TZOFFSETTO:+0100
TZNAME:CET
DTSTART:20231029T010000
END:STANDARD
BEGIN:DAYLIGHT
TZOFFSETFROM:+0100
TZOFFSETTO:+0200
TZNAME:CEST
DTSTART:20240331T010000
END:DAYLIGHT
BEGIN:STANDARD
TZOFFSETFROM:+0200
TZOFFSETTO:+0100
TZNAME:CET
DTSTART:20241027T010000
END:STANDARD
END:VTIMEZONE
BEGIN:VEVENT
DTSTART;TZID=Europe/Oslo:20230817T140000
DTEND;TZID=Europe/Oslo:20230817T153000
DTSTAMP:20260421T223740
CREATED:20230619T084912Z
LAST-MODIFIED:20230731T075900Z
UID:12586-1692280800-1692286200@www.inven2.com
SUMMARY:Trenger Norge kompetanse innen området nukleærmedisin?
DESCRIPTION:Velkommen til det store nukleærmedisinmøtet! Lurer du på hva radioaktive legemidler er? Eller hvordan fagfeltet radiofarmasi har etablert seg i Norge? Da kan dette være møtet for deg! \nSamtalen ledes av Eva Karin Sandanger Dugstad\, leder for næringsliv og samfunnskontakt ved Det matematisk-naturvitenskapelige fakultet. \nLes mer om arrangementet: https://program.arendalsuka.no/event/user-view/20106
URL:https://www.inven2.com/arrangement/arendalsuka-trenger-norge-kompetanse-innen-nukleaermedisin/
LOCATION:Clarion Hotel Tyholmen\, Teaterplassen 2\, Arendal\, Norge
CATEGORIES:Innovasjon
ATTACH;FMTTYPE=image/jpeg:https://www.inven2.com/wp-content/uploads/2023/06/Nukleaermedisin_Arendalsuka2.jpg
END:VEVENT
END:VCALENDAR