BEGIN:VCALENDAR
VERSION:2.0
PRODID:-//Inven2 - ECPv6.15.20//NONSGML v1.0//EN
CALSCALE:GREGORIAN
METHOD:PUBLISH
X-ORIGINAL-URL:https://www.inven2.com
X-WR-CALDESC:Arrangement for Inven2
REFRESH-INTERVAL;VALUE=DURATION:PT1H
X-Robots-Tag:noindex
X-PUBLISHED-TTL:PT1H
BEGIN:VTIMEZONE
TZID:Europe/Oslo
BEGIN:DAYLIGHT
TZOFFSETFROM:+0100
TZOFFSETTO:+0200
TZNAME:CEST
DTSTART:20210328T010000
END:DAYLIGHT
BEGIN:STANDARD
TZOFFSETFROM:+0200
TZOFFSETTO:+0100
TZNAME:CET
DTSTART:20211031T010000
END:STANDARD
BEGIN:DAYLIGHT
TZOFFSETFROM:+0100
TZOFFSETTO:+0200
TZNAME:CEST
DTSTART:20220327T010000
END:DAYLIGHT
BEGIN:STANDARD
TZOFFSETFROM:+0200
TZOFFSETTO:+0100
TZNAME:CET
DTSTART:20221030T010000
END:STANDARD
BEGIN:DAYLIGHT
TZOFFSETFROM:+0100
TZOFFSETTO:+0200
TZNAME:CEST
DTSTART:20230326T010000
END:DAYLIGHT
BEGIN:STANDARD
TZOFFSETFROM:+0200
TZOFFSETTO:+0100
TZNAME:CET
DTSTART:20231029T010000
END:STANDARD
END:VTIMEZONE
BEGIN:VEVENT
DTSTART;TZID=Europe/Oslo:20220316T133000
DTEND;TZID=Europe/Oslo:20220316T160000
DTSTAMP:20260423T040559
CREATED:20220221T094307Z
LAST-MODIFIED:20220316T084145Z
UID:9936-1647437400-1647446400@www.inven2.com
SUMMARY:Kliniske studier i medvind
DESCRIPTION:Link til digitalt arrangement: https://play.quickchannel.com/play/iak2krr \n  \nNasjonale tiltak og samarbeid om flere kliniske studier – fra TTO Helsenettverk til NorTrials\n\n\n\n\n\nDet er i dag et stort fokus på og engasjement for kliniske studier. I 2021 var det for første gang på flere år en økning i antall kliniske studier på oppdrag fra industri. Dette er svært gode nyheter. Det er imidlertid stor internasjonal konkurranse om å tiltrekke seg kliniske studier. Skal vi lykkes med å fortsette den positive trenden og levere på ambisjonene i den nasjonale handlingsplanen for kliniske studier\, er konkrete tiltak og nasjonalt samarbeid essensielt. I kompetanseprosjektet TTO Helsenettverk har TTO-er\, helseforetak og industri fra hele Norge for første gang samarbeidet om tiltak for å legge til rette for flere kliniske studier. \nNorTrials – et partnerskap mellom spesialisthelsetjenesten og næringslivet med mål om å øke antall studier i hele Norge på oppdrag fra industri – ble nylig etablert på oppdrag fra HOD. NorTrials vil dra nytte av det nasjonale samarbeidet og videreføre flere av initiativene fra TTO Helsenettverk. \nI møtet vil vi fortelle om leveranser og suksesskriterier fra TTO Helsenettverk nasjonale arbeid med kliniske studier og du vil høre om NorTrials’ planer framover. Representanter fra ulike aktører vil deretter dele sine refleksjoner om status og initiativer for tilrettelegging for kliniske studier i en uformell samtale. \nMøtet arrangeres på Toppsenteret i Forskningsparken\, men vil også bli streamet. \nMeld deg på enten fysisk eller digital deltakelse på møtet. De som deltar digitalt vil få tilsendt en lenke til stream på epost før møtet. \nAgenda \n13.30: Enkel servering og mingling i Toppsenteret Forskningsparken \n14.00: Møtestart \n\nVelkommen Ole Kristian Hjelstuen\, Adm dir Inven2\n\n\nTTO Helsenettverk kliniske studier; leveranser og refleksjoner Siri Kolle\, leder AP4 TTO Helsenettverk og VP Clinical Inven2\n\n\nNorTrials; veien videre Siv Mørkved\, Assisterende fagdirektør Helse Midt-Norge RHF \n\n\nSofaprat\n\nThorbjørn Halvorsen\, Head of Medical Affairs and Healthcare Development at Roche Diagnostics Norge\nHege Edvardsen\, Senirorådgiver LMI\nOle Kristian Hjelstuen\, Adm dir Inven2\nSiv Mørkved\, Assisterende fagdirektør Helse Midt-Norge RHF\nErlend B. Smeland\, Direktør Forskning\, innovasjon og utdanning OUS\nÅslaug Helland\, spesialist i onkologi\, overlege og utprøver ved Avdeling for kreftbehandling\, OUS\n\n\n\n\nOppsummering
URL:https://www.inven2.com/arrangement/kliniske-studier-i-medvind/
LOCATION:Forskningsparken\, Gaustadalleen 21\, Oslo\, 0346\, Norge
CATEGORIES:Kliniske studier
ATTACH;FMTTYPE=image/jpeg:https://www.inven2.com/wp-content/uploads/2022/02/shutterstock_1656082015-scaled.jpg
END:VEVENT
END:VCALENDAR