BEGIN:VCALENDAR
VERSION:2.0
PRODID:-//Inven2 - ECPv6.15.20//NONSGML v1.0//EN
CALSCALE:GREGORIAN
METHOD:PUBLISH
X-ORIGINAL-URL:https://www.inven2.com
X-WR-CALDESC:Arrangement for Inven2
REFRESH-INTERVAL;VALUE=DURATION:PT1H
X-Robots-Tag:noindex
X-PUBLISHED-TTL:PT1H
BEGIN:VTIMEZONE
TZID:Europe/Oslo
BEGIN:DAYLIGHT
TZOFFSETFROM:+0100
TZOFFSETTO:+0200
TZNAME:CEST
DTSTART:20210328T010000
END:DAYLIGHT
BEGIN:STANDARD
TZOFFSETFROM:+0200
TZOFFSETTO:+0100
TZNAME:CET
DTSTART:20211031T010000
END:STANDARD
BEGIN:DAYLIGHT
TZOFFSETFROM:+0100
TZOFFSETTO:+0200
TZNAME:CEST
DTSTART:20220327T010000
END:DAYLIGHT
BEGIN:STANDARD
TZOFFSETFROM:+0200
TZOFFSETTO:+0100
TZNAME:CET
DTSTART:20221030T010000
END:STANDARD
BEGIN:DAYLIGHT
TZOFFSETFROM:+0100
TZOFFSETTO:+0200
TZNAME:CEST
DTSTART:20230326T010000
END:DAYLIGHT
BEGIN:STANDARD
TZOFFSETFROM:+0200
TZOFFSETTO:+0100
TZNAME:CET
DTSTART:20231029T010000
END:STANDARD
END:VTIMEZONE
BEGIN:VEVENT
DTSTART;TZID=Europe/Oslo:20220420T130000
DTEND;TZID=Europe/Oslo:20220420T170000
DTSTAMP:20260423T022917
CREATED:20220321T084636Z
LAST-MODIFIED:20220408T114306Z
UID:10282-1650459600-1650474000@www.inven2.com
SUMMARY:Dialogmøte med industri - Kliniske studier på nevroklinikken OUS
DESCRIPTION:Velkommen til dialogmøte om kliniske studier \nStart påmelding\nForskningsparken\, Møterom Forum \nVelkommen til dialogmøte om kliniske studier. Nevroklinikken på Oslo universitetssykehus (OUS)\, som er den største i Norden\, har bygget opp infrastruktur for å legge til rette for flere kliniske studier i samarbeid med industri. Det er et sterkt ønske om å tilby pasienter utprøvende behandling gjennom kliniske studier. Klinikken søker nå aktivt nye studier og samarbeidsprosjekter til sin satsning på studier. \nPå dialogmøtet vil du få presentert nevroklinikkens studietilbud i form av infrastruktur\, kontaktpunkter og aktuelle utprøvere. Det vil i ettertid av presentasjonene være mulig å ha 1:1 møter med aktuelle utprøvere for å initiere kontakt og samarbeid. \nArrangører: Nevrologisk avdeling\, Nevroklinikken\, OUS\, Inven2\, Nansen Neuroscience Network \nProgram: \n1300-1310 Åpning\, Prof Hanne Flinstad Harbo\, OUS og Bjarte Reve\, Daglig leder\, NNN \n1310-1340 Myndighetenes rolle i å legge tilrette for kliniske studier. Hvordan kan vi styrke vår posisjon? Jan Frich\, viseadm.dir Helse Sør-Øst RHF og rep fra Helse og omsorgsdepartementet \n1340-1400 Hva ser industrien etter når vi velger sites for kliniske studier? Erik Hjelvin\, medisinsk direktør Pfizer Norge og Espen Burum-Auensen\, Medisinsk sjef\, Biogen Norge \n1400-1420 Inven2 – tilrettelegging for flere kliniske studier\, Siri Kolle\, VP Clinical Inven2 \n1420-1440 Pause \n1445-1500 Kliniske studier i Nevroklinikken og Nevrologisk avdeling. Overordnede erfaringer\, organisering\, ressurser og ambisjoner. Prof. Hanne Flinstad Harbo\, leder nevrologisk avdeling OUS \n1500-1615 Forskningsmiljøene i Nevroklinikken\, Oslo universitetssykehus. \nKorte pitch-talks fra forskningsmiljøene om hva vi kan tilby industripartnere: \n\nMS – Gro Owren Nygaard og Elisabeth G Celius\nHjerneslag Ullevål – Else Charlotte Sandset\nHjerneslag Rikshospitalet – Anne Hege Aamodt\nHodepine – Bendik Windsvold\nEpilepsi (ERGO) – Erik Taubøll\nSpesialsykehuset for epilepsi – Morten Lossius\nBevegelsesforstyrrelser – Lasse Pihlstrøm og Mathias Toft\nNevromuskulære sykdommer – Kristin Ørstavik og Trine Popperud\nSøvn\, smerte og nevrofysiologiske data – Kristian Bernhard Nilsen\nKognisjon – Ira Haraldsen\nHjernetumor – Einar Vik-Mo\nNevrohabilitering – Bjørnar Hassel\nALS og Myastenia Gravis – Angelina Maniaol\nNevrokrurgi – Pål Gunnar Larsson\n\n1615-1700 «Speed-dating»: 1:1 møter og møteplass mellom akademia\, myndigheter\, klinikere og industrien \nLink til påmelding: https://www.eventbrite.com/e/dialogmte-med-industri-kliniske-studier-pa-nevroklinikken-ous-tickets-306284855247
URL:https://www.inven2.com/arrangement/dialogmote-om-kliniske-studier/
LOCATION:Forskningsparken\, Gaustadalleen 21\, Oslo\, 0346\, Norge
CATEGORIES:Kliniske studier
ATTACH;FMTTYPE=image/jpeg:https://www.inven2.com/wp-content/uploads/2022/03/shutterstock_1213031050-web.jpg
END:VEVENT
END:VCALENDAR