BEGIN:VCALENDAR
VERSION:2.0
PRODID:-//Inven2 - ECPv6.15.20//NONSGML v1.0//EN
CALSCALE:GREGORIAN
METHOD:PUBLISH
X-ORIGINAL-URL:https://www.inven2.com
X-WR-CALDESC:Arrangement for Inven2
REFRESH-INTERVAL;VALUE=DURATION:PT1H
X-Robots-Tag:noindex
X-PUBLISHED-TTL:PT1H
BEGIN:VTIMEZONE
TZID:Europe/Oslo
BEGIN:DAYLIGHT
TZOFFSETFROM:+0100
TZOFFSETTO:+0200
TZNAME:CEST
DTSTART:20200329T010000
END:DAYLIGHT
BEGIN:STANDARD
TZOFFSETFROM:+0200
TZOFFSETTO:+0100
TZNAME:CET
DTSTART:20201025T010000
END:STANDARD
BEGIN:DAYLIGHT
TZOFFSETFROM:+0100
TZOFFSETTO:+0200
TZNAME:CEST
DTSTART:20210328T010000
END:DAYLIGHT
BEGIN:STANDARD
TZOFFSETFROM:+0200
TZOFFSETTO:+0100
TZNAME:CET
DTSTART:20211031T010000
END:STANDARD
BEGIN:DAYLIGHT
TZOFFSETFROM:+0100
TZOFFSETTO:+0200
TZNAME:CEST
DTSTART:20220327T010000
END:DAYLIGHT
BEGIN:STANDARD
TZOFFSETFROM:+0200
TZOFFSETTO:+0100
TZNAME:CET
DTSTART:20221030T010000
END:STANDARD
END:VTIMEZONE
BEGIN:VEVENT
DTSTART;TZID=Europe/Oslo:20211111T090000
DTEND;TZID=Europe/Oslo:20211111T110000
DTSTAMP:20260423T112037
CREATED:20211018T140209Z
LAST-MODIFIED:20211018T140209Z
UID:8945-1636621200-1636628400@www.inven2.com
SUMMARY:Serviceavdelinger i kliniske studier på oppdrag fra industri
DESCRIPTION:Tid til oppstart er en av flere viktige faktorer som industrien ser på når de vurderer hvor de skal legge sine studier. Norge er særlig attraktiv for komplekse studier som krever involvering av en rekke serviceavdelinger\, som radiologi\, patologi og laboratoriemedisin\, i hver enkelt studie\, noe som gjør at forespørsler og prising av serviceavdelingers tjenester utgjør en stor del av oppstartsprosessen for studier. For at norske sykehus skal være attraktive samarbeidspartner for industri er det derfor viktig at oppstartsprosessen\, inkludert involvering av serviceavdelinger\, er så rask og effektiv som mulig. Hensikten med webinaret er belyse serviceavdelingers rolle i kliniske studier og dele gode eksempler på effektiv involvering av serviceavdelinger i oppstartsfasen av en studie. \nWebinaret er del av et arbeid i TTO Helsenettverk\, et 2 årig prosjekt hvor vi jobber med en rekke helt konkrete tiltak knyttet til oppstart av kliniske studier på oppdrag fra industri i Norge. I tillegg til fokus på oppstartsprosesser\, har vi gjennom prosjektet blant annet fått på plass nasjonale avtalemaler for og jobbet med å øke antall norske sites i SIP. \nFor påmelding bruk linken: https://www.eventbrite.com/e/serviceavdelinger-i-kliniske-studier-pa-oppdrag-fra-industri-tickets-190439027257 \nLink til webinaret vil bli sendt ut på epost i forkant. \n  \nAgenda \nVelkommen og innledning\, Siri Kolle Inven2 \nServiceavdelingers rolle i kliniske studier \n\nSykehusperspektiv\, Anne Marie Halstensen\, Forskningskoordinator Sykehuset Østfold\n\n\nIndustriperspektiv\, Hege Edvardsen\, Seniorrådgiver\, LMI\n\nDeling av best practice \n\nStandardisering – modell for forespørsler serviceavdelinger ved HSØ og UNN\, med eksempel fra radiologi\, Ellen Johnsen\, Regional prosjektkoordinator Avd for Forskningsstøtte og Representant for FOU enhet Klinikk for radiologi og nukleærmedisin\, OUS\n\n\nForespørsler og prising av labtjenester ved Ahus\, Anne Kristine Nordby Øvre Forskningskoordinator Avd for forskningsstøtte og Heidi Strand\, Research biomedical laboratory scientist\n\n\nInvolvering av serviceavdelinger i studier ved Clinical Research Unit\, Dept. of Oncology\, Rigshospitalet i København\, Tim Lundby\, Forskningsassistent                          \n\nDiskusjon \n\nQ&A (spørsmål fra tilhørere)\nInvolvering av serviceavdelinger inn i fremtiden –  hva er målbildet?\n\nOppsummering
URL:https://www.inven2.com/arrangement/serviceavdelinger-i-kliniske-studier-pa-oppdrag-fra-industri/
CATEGORIES:Kliniske studier
ATTACH;FMTTYPE=image/jpeg:https://www.inven2.com/wp-content/uploads/2021/10/iStock-918053732.jpg
END:VEVENT
END:VCALENDAR