BEGIN:VCALENDAR
VERSION:2.0
PRODID:-//Inven2 - ECPv6.15.20//NONSGML v1.0//EN
CALSCALE:GREGORIAN
METHOD:PUBLISH
X-WR-CALNAME:Inven2
X-ORIGINAL-URL:https://www.inven2.com
X-WR-CALDESC:Arrangement for Inven2
REFRESH-INTERVAL;VALUE=DURATION:PT1H
X-Robots-Tag:noindex
X-PUBLISHED-TTL:PT1H
BEGIN:VTIMEZONE
TZID:Europe/Oslo
BEGIN:DAYLIGHT
TZOFFSETFROM:+0100
TZOFFSETTO:+0200
TZNAME:CEST
DTSTART:20190331T010000
END:DAYLIGHT
BEGIN:STANDARD
TZOFFSETFROM:+0200
TZOFFSETTO:+0100
TZNAME:CET
DTSTART:20191027T010000
END:STANDARD
BEGIN:DAYLIGHT
TZOFFSETFROM:+0100
TZOFFSETTO:+0200
TZNAME:CEST
DTSTART:20200329T010000
END:DAYLIGHT
BEGIN:STANDARD
TZOFFSETFROM:+0200
TZOFFSETTO:+0100
TZNAME:CET
DTSTART:20201025T010000
END:STANDARD
BEGIN:DAYLIGHT
TZOFFSETFROM:+0100
TZOFFSETTO:+0200
TZNAME:CEST
DTSTART:20210328T010000
END:DAYLIGHT
BEGIN:STANDARD
TZOFFSETFROM:+0200
TZOFFSETTO:+0100
TZNAME:CET
DTSTART:20211031T010000
END:STANDARD
END:VTIMEZONE
BEGIN:VEVENT
DTSTART;TZID=Europe/Oslo:20200903T090000
DTEND;TZID=Europe/Oslo:20200903T153000
DTSTAMP:20260423T163620
CREATED:20200818T102754Z
LAST-MODIFIED:20200824T133644Z
UID:6586-1599123600-1599147000@www.inven2.com
SUMMARY:Webinar: Kurs i kliniske oppdragsstudier
DESCRIPTION:Kurset er praktisk rettet og henvender seg først og fremst til utprøvere\, studiesykepleiere\, prosjektkoordinatorer og andre som arbeider med kliniske studier på oppdrag fra industrien\, primært legemiddelstudier. \nVi går gjennom hele prosessen\, fra forespørsel om deltakelse til avslutning og arkivering\, hvilke forpliktelser og fordeler studiedeltakelse innebærer for sykehuset og hvilke forventninger industrien har. Det er en fordel å ha gjennomført GCP-kurs\, da kurset forutsetter en viss kjennskap til regelverk og begreper. \n 
URL:https://www.inven2.com/arrangement/kurs-i-kliniske-oppdragsstudier/
LOCATION:Forskningsparken\, Gaustadalleen 21\, Oslo\, 0346\, Norge
CATEGORIES:Kliniske studier
ATTACH;FMTTYPE=image/jpeg:https://www.inven2.com/wp-content/uploads/2020/08/shutterstock_787865590_web2.jpg
END:VEVENT
END:VCALENDAR