BEGIN:VCALENDAR
VERSION:2.0
PRODID:-//Inven2 - ECPv6.15.20//NONSGML v1.0//EN
CALSCALE:GREGORIAN
METHOD:PUBLISH
X-ORIGINAL-URL:https://www.inven2.com
X-WR-CALDESC:Arrangement for Inven2
REFRESH-INTERVAL;VALUE=DURATION:PT1H
X-Robots-Tag:noindex
X-PUBLISHED-TTL:PT1H
BEGIN:VTIMEZONE
TZID:Europe/Oslo
BEGIN:DAYLIGHT
TZOFFSETFROM:+0100
TZOFFSETTO:+0200
TZNAME:CEST
DTSTART:20200329T010000
END:DAYLIGHT
BEGIN:STANDARD
TZOFFSETFROM:+0200
TZOFFSETTO:+0100
TZNAME:CET
DTSTART:20201025T010000
END:STANDARD
BEGIN:DAYLIGHT
TZOFFSETFROM:+0100
TZOFFSETTO:+0200
TZNAME:CEST
DTSTART:20210328T010000
END:DAYLIGHT
BEGIN:STANDARD
TZOFFSETFROM:+0200
TZOFFSETTO:+0100
TZNAME:CET
DTSTART:20211031T010000
END:STANDARD
BEGIN:DAYLIGHT
TZOFFSETFROM:+0100
TZOFFSETTO:+0200
TZNAME:CEST
DTSTART:20220327T010000
END:DAYLIGHT
BEGIN:STANDARD
TZOFFSETFROM:+0200
TZOFFSETTO:+0100
TZNAME:CET
DTSTART:20221030T010000
END:STANDARD
END:VTIMEZONE
BEGIN:VEVENT
DTSTART;TZID=Europe/Oslo:20210318T090000
DTEND;TZID=Europe/Oslo:20210318T100000
DTSTAMP:20260423T081629
CREATED:20210301T094733Z
LAST-MODIFIED:20210310T142949Z
UID:8080-1616058000-1616061600@www.inven2.com
SUMMARY:Digitale utprøver-plattformer i kliniske industristudier - Bakgrunn og status for implementering av SIP i Norge
DESCRIPTION:Lurer du på hva Shared Investigator Plattform (SIP) er og hvorfor noen firma har tatt dette i bruk?  Er SIP en nødvendig digital plattform for at Norge skal få flere kliniske studier? \nInven2 jobber i samarbeid med flere TTO og helseforetak i TTO Helsenettverk med å se hvordan vi best kan gjøre våre utprøvingssite tilgjengelige for industri\, blant annet gjennom registrering i firma sine utprøverportaler. Per i dag er kun en utprøverportal tatt i bruk av firma – SIP. I dette webinaret vil du få høre mer om hvordan firma samarbeider for å få til løsninger på tvers av firma (TranCelerate)\, inkludert SIP. Du vil også få et innblikk i hvordan firma jobber med å ta SIP i bruk i Norge og hvilke tiltak TTO helsenettverk i samarbeid med alle nasjonale facility managers jobber med for å samordne og forenkle bruk i Norge. \n  \nAgenda: \n\nTrancelerate og bakgrunn for SIP: Catharina Östberg\, GSK (Head Clinical Operations)\nStatus fra firma for implementering i Norge: Frode Bjerkly\, MSD (Clinical Research Manager) og SIP ansvarlig i Norge\nTiltak knyttet til TTO Helsenettverk: Sven Arne Sogn\, Contract Manager og SIP kontakt i Inven2\n\n  \nPåmelding: https://www.eventbrite.com/e/digitale-utprver-plattformer-i-kliniske-industristudier-tickets-144599124875
URL:https://www.inven2.com/arrangement/shared-investigator-platform/
CATEGORIES:Kliniske studier
ATTACH;FMTTYPE=image/jpeg:https://www.inven2.com/wp-content/uploads/2021/03/shutterstock_211464964_1200.jpg
END:VEVENT
END:VCALENDAR