BEGIN:VCALENDAR
VERSION:2.0
PRODID:-//Inven2 - ECPv6.15.20//NONSGML v1.0//EN
CALSCALE:GREGORIAN
METHOD:PUBLISH
X-ORIGINAL-URL:https://www.inven2.com
X-WR-CALDESC:Arrangement for Inven2
REFRESH-INTERVAL;VALUE=DURATION:PT1H
X-Robots-Tag:noindex
X-PUBLISHED-TTL:PT1H
BEGIN:VTIMEZONE
TZID:Europe/Oslo
BEGIN:DAYLIGHT
TZOFFSETFROM:+0100
TZOFFSETTO:+0200
TZNAME:CEST
DTSTART:20200329T010000
END:DAYLIGHT
BEGIN:STANDARD
TZOFFSETFROM:+0200
TZOFFSETTO:+0100
TZNAME:CET
DTSTART:20201025T010000
END:STANDARD
BEGIN:DAYLIGHT
TZOFFSETFROM:+0100
TZOFFSETTO:+0200
TZNAME:CEST
DTSTART:20210328T010000
END:DAYLIGHT
BEGIN:STANDARD
TZOFFSETFROM:+0200
TZOFFSETTO:+0100
TZNAME:CET
DTSTART:20211031T010000
END:STANDARD
BEGIN:DAYLIGHT
TZOFFSETFROM:+0100
TZOFFSETTO:+0200
TZNAME:CEST
DTSTART:20220327T010000
END:DAYLIGHT
BEGIN:STANDARD
TZOFFSETFROM:+0200
TZOFFSETTO:+0100
TZNAME:CET
DTSTART:20221030T010000
END:STANDARD
END:VTIMEZONE
BEGIN:VEVENT
DTSTART;TZID=Europe/Oslo:20210407T140000
DTEND;TZID=Europe/Oslo:20210407T153000
DTSTAMP:20260423T064359
CREATED:20210318T085209Z
LAST-MODIFIED:20210407T062239Z
UID:8178-1617804000-1617809400@www.inven2.com
SUMMARY:Lansering av INSPIRE-rapporten
DESCRIPTION:Kreftregisteret\, Kreftforeningen\, Inven2\, LMI og en rekke av LMIs medlemsselskaper inviterer 7. april til lansering av INSPIRE-rapporten om bruk og effekt av kreftlegemidler i Norge.\n\n\n\n\nArrangører: Kreftregisteret\, Kreftforeningen\, Inven2 og Legemiddelindustrien (LMI). \nSted: webinar https://livestream.kreftforeningen.no\nTid: Onsdag 7. april kl. 14:00-15:30\nPris: Gratis\nÅpent for: alle \nHvilke kreftpasienter får tilbud om nye\, avanserte kreftlegemidler\, og hvilken effekt har behandlingen? Vi inviterer til lansering for INSPIRE-rapporten om bruk og effekt av kreftlegemidler i Norge. Datafangsten gjøres på alle kreftpasienter\, men bearbeidelsen av dataene starter med lungekreft og deretter brystkreft. Denne rapporten viser behandling som gis for lungekreft. \nINSPIRE er et unikt og omfattende prosjekt\, der målet er få oversikt over bruk og effekt av kreftmedikamenter i Norge. En slik oversikt eksisterer ikke per i dag. \nLanseringen foregår som et webinar fra Kreftforeningens Vitensenter 7. april 2021 kl 14:00. Webinaret er gratis og åpent for alle med interesse for kreft og kreftbehandling. \nLegemiddelselskapene som er med i lungekreftprosjektet er Abbvie\, Amgen\, AstraZeneca\, Bristol-Myers Squibb (BMS)\, Janssen\, Merck\, MSD\, Novartis\, Pfizer\, Roche\, Sanofi Genzyme og Takeda. \nDu møter blant andre:\nStatssekretær Anne Grethe Erlandsen\nIngrid Stenstadvold Ross\, Kreftforeningen\nGiske Ursin\, Kreftregisteret\nKarita Bekkemellem\, Legemiddelindustrien\nOle Kristian Hjelstuen\, Inven2\nOdd Terje Brustugun\, onkolog\, Drammen sykehus
URL:https://www.inven2.com/arrangement/lansering-av-inspire-rapporten/
CATEGORIES:Kliniske studier
ATTACH;FMTTYPE=image/jpeg:https://www.inven2.com/wp-content/uploads/2021/03/INSPIRE-2019-HELDEKK-SLIDE-nye-logoer2021_web.jpg
END:VEVENT
BEGIN:VEVENT
DTSTART;TZID=Europe/Oslo:20210408T140000
DTEND;TZID=Europe/Oslo:20210408T160000
DTSTAMP:20260423T064359
CREATED:20210324T114257Z
LAST-MODIFIED:20210324T121452Z
UID:8185-1617890400-1617897600@www.inven2.com
SUMMARY:Pilot Helse: Desentraliserte kliniske studier i Norge
DESCRIPTION:VIKTIG\nPåmeldingsskjema støtter ikke Internet Explorer lengere da «levetiden» gikk ut i februar 2020. Vi råder derfor alle som enda bruker Internet Explorer til å hoppe over til etterfølgeren Microsoft Edge eller Chrome. \nLMI sammen med samarbeidspartnere Norway Health Tech\, Melanor\, The Life Science Cluster\, Oslo Cancer Cluster\, Inven2 og Norwegian Smart Cluster inviterer til digitalt mobiliseringsmøte for Pilot Helse: Desentraliserte kliniske studier i Norge 8. april 14.00-16.00. \nAgenda:\nVelkommen og presentasjon\nIntro til prosjekt v/LMI\nBetydningen av desentraliserte kliniske studier fra\n– Helsetjenesten\n– Internasjonalt legemiddelfirma\n– eHelse aktør\n– TTO\nPitch sesjon (5 min per firma)\nOppsummering og videre prosess \nFirma som ønsker å presentere sitt konsept og hvordan det kan inngå i prosjektet i pitch sesjonen må melde sin interesse til Hege Edvardsen (hege.edvardsen@lmi.no) – epost bes merkes med Pilot Helse – påmelding pitch sesjonen. \nDet vil bli sendt ut lenke\, i forkant av møtet\, til de som er påmeldt. \nPåmelding: https://www.lmi.no/kurs-arrangement/pilot-helse-desentraliserte-kliniske-studier-i-norge/?&tab=2&tab2=2 \nVelkommen
URL:https://www.inven2.com/arrangement/pilot-helse-desentraliserte-kliniske-studier-i-norge/
CATEGORIES:Kliniske studier
ATTACH;FMTTYPE=image/jpeg:https://www.inven2.com/wp-content/uploads/2021/03/shutterstock_1463056853.jpg
END:VEVENT
END:VCALENDAR