BEGIN:VCALENDAR
VERSION:2.0
PRODID:-//Inven2 - ECPv6.15.20//NONSGML v1.0//EN
CALSCALE:GREGORIAN
METHOD:PUBLISH
X-ORIGINAL-URL:https://www.inven2.com
X-WR-CALDESC:Arrangement for Inven2
REFRESH-INTERVAL;VALUE=DURATION:PT1H
X-Robots-Tag:noindex
X-PUBLISHED-TTL:PT1H
BEGIN:VTIMEZONE
TZID:Europe/Oslo
BEGIN:DAYLIGHT
TZOFFSETFROM:+0100
TZOFFSETTO:+0200
TZNAME:CEST
DTSTART:20210328T010000
END:DAYLIGHT
BEGIN:STANDARD
TZOFFSETFROM:+0200
TZOFFSETTO:+0100
TZNAME:CET
DTSTART:20211031T010000
END:STANDARD
BEGIN:DAYLIGHT
TZOFFSETFROM:+0100
TZOFFSETTO:+0200
TZNAME:CEST
DTSTART:20220327T010000
END:DAYLIGHT
BEGIN:STANDARD
TZOFFSETFROM:+0200
TZOFFSETTO:+0100
TZNAME:CET
DTSTART:20221030T010000
END:STANDARD
BEGIN:DAYLIGHT
TZOFFSETFROM:+0100
TZOFFSETTO:+0200
TZNAME:CEST
DTSTART:20230326T010000
END:DAYLIGHT
BEGIN:STANDARD
TZOFFSETFROM:+0200
TZOFFSETTO:+0100
TZNAME:CET
DTSTART:20231029T010000
END:STANDARD
END:VTIMEZONE
BEGIN:VEVENT
DTSTART;TZID=Europe/Oslo:20220519T090000
DTEND;TZID=Europe/Oslo:20220519T160000
DTSTAMP:20260422T120102
CREATED:20220408T113545Z
LAST-MODIFIED:20220408T114436Z
UID:10397-1652950800-1652976000@www.inven2.com
SUMMARY:Kurs i kliniske oppdragsstudier - fra forespørsel til sluttrapportering
DESCRIPTION:Kurset er praktisk rettet og henvender seg først og fremst til utprøvere\, studiesykepleiere\, prosjektkoordinatorer og andre som arbeider med kliniske studier på oppdrag fra industrien\, primært legemiddelstudier. Vi går gjennom hele prosessen\, fra forespørsel om deltakelse til avslutning og arkivering\, hvilke forpliktelser og fordeler studiedeltakelse innebærer for sykehuset og hvilke forventninger industrien har. Det er en fordel å ha gjennomført GCP-kurs\, da kurset forutsetter en viss kjennskap til regelverk og begreper. \nAgenda \nPåmelding
URL:https://www.inven2.com/arrangement/kurs-i-kliniske-oppdragsstudier-fra-foresporsel-til-sluttrapportering/
CATEGORIES:Kliniske studier
ATTACH;FMTTYPE=image/jpeg:https://www.inven2.com/wp-content/uploads/2022/04/shutterstock_787865590_web-1.jpg
END:VEVENT
END:VCALENDAR